BEGIN:VCALENDAR
VERSION:2.0
PRODID:-//Loppington Parish Council//Meeting Calendar//EN
CALSCALE:GREGORIAN
METHOD:PUBLISH
BEGIN:VEVENT
UID:70899-20260908@loppingtonparishcouncil.gov.uk
DTSTAMP:20260422T085153Z
DTSTART;VALUE=DATE:20260908
DTEND;VALUE=DATE:20260909
SUMMARY:Ordinary Council &#8211\\; 8th September 2026
DESCRIPTION:Full Council Meeting\nView details: https://loppingtonparishcouncil.gov.uk/meetings/ordinary-meeting-8th-september-2026/
URL:https://loppingtonparishcouncil.gov.uk/meetings/ordinary-meeting-8th-september-2026/
END:VEVENT
END:VCALENDAR
